BEGIN:VCALENDAR
VERSION:2.0
PRODID:-//Stockton Unified School District Police Department - ECPv6.9.1//NONSGML v1.0//EN
CALSCALE:GREGORIAN
METHOD:PUBLISH
X-ORIGINAL-URL:https://stocktonusdpolice.org
X-WR-CALDESC:Events for Stockton Unified School District Police Department
REFRESH-INTERVAL;VALUE=DURATION:PT1H
X-Robots-Tag:noindex
X-PUBLISHED-TTL:PT1H
BEGIN:VTIMEZONE
TZID:America/Los_Angeles
BEGIN:DAYLIGHT
TZOFFSETFROM:-0800
TZOFFSETTO:-0700
TZNAME:PDT
DTSTART:20250309T100000
END:DAYLIGHT
BEGIN:STANDARD
TZOFFSETFROM:-0700
TZOFFSETTO:-0800
TZNAME:PST
DTSTART:20251102T090000
END:STANDARD
END:VTIMEZONE
BEGIN:VEVENT
DTSTART;TZID=America/Los_Angeles:20250719T080000
DTEND;TZID=America/Los_Angeles:20250719T160000
DTSTAMP:20260421T184242
CREATED:20250716T231953Z
LAST-MODIFIED:20250717T011805Z
UID:1186-1752912000-1752940800@stocktonusdpolice.org
SUMMARY:SUSD P.D. Volunteer Fair
DESCRIPTION:The Stockton Unified School District and SUSD Police are hosting a free Volunteer Fair on Saturday\, July 19\, from 8 a.m. to 4 p.m.\, at the SUSD Police Department (640 N. San Joaquin Street\, Stockton\, 95202). \nDon’t have a TB or need help registering? We will have nurses on-site administering TB test questionnaires\, as well as a Be a Mentor station where we will assist with online registration! \nAll applicants are required to bring a valid government ID (ID\, passport\, driver’s license). \nTo expedite your process\, we encourage you to complete your Be a Mentor account registration and TB screening prior to the event. \nDownload the Flyer
URL:https://stocktonusdpolice.org/event/susd-pd-volunteer-fair/
LOCATION:Stockton Unified School District Police Department\, 640 N San Joaquin St\, Stockton\, 95202\, United States
CATEGORIES:Community Events,POA Events
ATTACH;FMTTYPE=image/jpeg:https://stocktonusdpolice.org/wp-content/uploads/2025/07/susd-pd-volunteer-fair-featured.jpg
ORGANIZER;CN="Stockton Unified School District Police Department":MAILTO:policedispatch@stocktonusd.net
END:VEVENT
END:VCALENDAR