BEGIN:VCALENDAR
VERSION:2.0
PRODID:-//Stockton Unified School District Police Department - ECPv6.9.1//NONSGML v1.0//EN
CALSCALE:GREGORIAN
METHOD:PUBLISH
X-WR-CALNAME:Stockton Unified School District Police Department
X-ORIGINAL-URL:https://stocktonusdpolice.org
X-WR-CALDESC:Events for Stockton Unified School District Police Department
REFRESH-INTERVAL;VALUE=DURATION:PT1H
X-Robots-Tag:noindex
X-PUBLISHED-TTL:PT1H
BEGIN:VTIMEZONE
TZID:America/Los_Angeles
BEGIN:DAYLIGHT
TZOFFSETFROM:-0800
TZOFFSETTO:-0700
TZNAME:PDT
DTSTART:20240310T100000
END:DAYLIGHT
BEGIN:STANDARD
TZOFFSETFROM:-0700
TZOFFSETTO:-0800
TZNAME:PST
DTSTART:20241103T090000
END:STANDARD
END:VTIMEZONE
BEGIN:VEVENT
DTSTART;TZID=America/Los_Angeles:20240809T170000
DTEND;TZID=America/Los_Angeles:20240810T150000
DTSTAMP:20260423T211329
CREATED:20240807T003532Z
LAST-MODIFIED:20240808T001552Z
UID:993-1723222800-1723302000@stocktonusdpolice.org
SUMMARY:1st Annual Family Empowerment Conference
DESCRIPTION:Day 1: Kickoff Night\nFriday\, August 9 – 5pm to 8pm\nFun for the whole family! \n\nLive music\nFood\nFamily resources\n\nDay 2: Conference\nSaturday\, August 10 – 9am to 3pm\nParent & Student Workshops \n\nBreakfast & Lunch\nDay Camp\nChildcare\n\nREGISTER \n\nDownload the Flyer:\nEnglish | Spanish
URL:https://stocktonusdpolice.org/event/1st-annual-family-empowerment-conference/
LOCATION:Edison High School\, 100 Doctor M.L.K. Jr Blvd\, Stockton\, CA\, 95206\, United States
CATEGORIES:Community Events
ATTACH;FMTTYPE=image/jpeg:https://stocktonusdpolice.org/wp-content/uploads/2024/08/Family-Empowerment-Conference.jpg
ORGANIZER;CN="Family Resource Center":MAILTO:Familyresourcecenter@stocktonusd.net
END:VEVENT
BEGIN:VEVENT
DTSTART;TZID=America/Los_Angeles:20240806T160000
DTEND;TZID=America/Los_Angeles:20240806T200000
DTSTAMP:20260423T211329
CREATED:20240801T221812Z
LAST-MODIFIED:20240802T224816Z
UID:893-1722960000-1722974400@stocktonusdpolice.org
SUMMARY:National Night Out 2024
DESCRIPTION:The Stockton Unified School District Department of Public Safety presents to you the National Night Out 2024! Event include games\, live music and food! \n \n 
URL:https://stocktonusdpolice.org/event/national-night-out-2024/
LOCATION:Freemont Square Park\, 302 E. Fremont Street\, Stockton\, CA\, 95202\, United States
CATEGORIES:Community Events
ATTACH;FMTTYPE=image/jpeg:https://stocktonusdpolice.org/wp-content/uploads/2024/08/NNO-2024.jpg
END:VEVENT
END:VCALENDAR