BEGIN:VCALENDAR
VERSION:2.0
PRODID:-//Stockton Unified School District Police Department - ECPv6.9.1//NONSGML v1.0//EN
CALSCALE:GREGORIAN
METHOD:PUBLISH
X-WR-CALNAME:Stockton Unified School District Police Department
X-ORIGINAL-URL:https://stocktonusdpolice.org
X-WR-CALDESC:Events for Stockton Unified School District Police Department
REFRESH-INTERVAL;VALUE=DURATION:PT1H
X-Robots-Tag:noindex
X-PUBLISHED-TTL:PT1H
BEGIN:VTIMEZONE
TZID:America/Los_Angeles
BEGIN:DAYLIGHT
TZOFFSETFROM:-0800
TZOFFSETTO:-0700
TZNAME:PDT
DTSTART:20240310T100000
END:DAYLIGHT
BEGIN:STANDARD
TZOFFSETFROM:-0700
TZOFFSETTO:-0800
TZNAME:PST
DTSTART:20241103T090000
END:STANDARD
END:VTIMEZONE
BEGIN:VEVENT
DTSTART;TZID=America/Los_Angeles:20241028T163000
DTEND;TZID=America/Los_Angeles:20241028T190000
DTSTAMP:20260422T061227
CREATED:20241018T234652Z
LAST-MODIFIED:20241019T003556Z
UID:1143-1730133000-1730142000@stocktonusdpolice.org
SUMMARY:Trunk or Treat
DESCRIPTION:The Stockton Unified School District Police Department and the Stockton Police Department invite you to join us for Halloween fun at our Trunk or Treat event on Monday\, October 28\, at Victory Park. The event will feature candy\, music\, spooky booths\, a car show and so much more! We hope to see you there! \nDownload the Flyer
URL:https://stocktonusdpolice.org/event/trunk-or-treat/
LOCATION:Victory Park\, 1001 N Pershing Ave\, Stockton\, CA\, 95203\, United States
CATEGORIES:Community Events
ATTACH;FMTTYPE=image/jpeg:https://stocktonusdpolice.org/wp-content/uploads/2024/10/event-Truck-or-Treat-October-28-2024-featured.jpg
ORGANIZER;CN="Family Resource Center":MAILTO:Familyresourcecenter@stocktonusd.net
END:VEVENT
END:VCALENDAR